BEGIN:VCALENDAR
VERSION:2.0
PRODID:-//SQCC - ECPv6.15.20//NONSGML v1.0//EN
CALSCALE:GREGORIAN
METHOD:PUBLISH
X-WR-CALNAME:SQCC
X-ORIGINAL-URL:https://www.sqcc.org
X-WR-CALDESC:Events for SQCC
REFRESH-INTERVAL;VALUE=DURATION:PT1H
X-Robots-Tag:noindex
X-PUBLISHED-TTL:PT1H
BEGIN:VTIMEZONE
TZID:America/New_York
BEGIN:DAYLIGHT
TZOFFSETFROM:-0500
TZOFFSETTO:-0400
TZNAME:EDT
DTSTART:20250309T070000
END:DAYLIGHT
BEGIN:STANDARD
TZOFFSETFROM:-0400
TZOFFSETTO:-0500
TZNAME:EST
DTSTART:20251102T060000
END:STANDARD
BEGIN:DAYLIGHT
TZOFFSETFROM:-0500
TZOFFSETTO:-0400
TZNAME:EDT
DTSTART:20260308T070000
END:DAYLIGHT
BEGIN:STANDARD
TZOFFSETFROM:-0400
TZOFFSETTO:-0500
TZNAME:EST
DTSTART:20261101T060000
END:STANDARD
BEGIN:DAYLIGHT
TZOFFSETFROM:-0500
TZOFFSETTO:-0400
TZNAME:EDT
DTSTART:20270314T070000
END:DAYLIGHT
BEGIN:STANDARD
TZOFFSETFROM:-0400
TZOFFSETTO:-0500
TZNAME:EST
DTSTART:20271107T060000
END:STANDARD
END:VTIMEZONE
BEGIN:VEVENT
DTSTART;TZID=America/New_York:20260422T120000
DTEND;TZID=America/New_York:20260422T160000
DTSTAMP:20260420T042650
CREATED:20260417T223149Z
LAST-MODIFIED:20260417T223149Z
UID:2556-1776859200-1776873600@www.sqcc.org
SUMMARY:SQCC Open House Featuring Arabic Calligraphy by Mariam Lodin
DESCRIPTION:The Sultan Qaboos Cultural Center (SQCC) invites you to mark National Arab American Heritage Month with an exploration of one of the Arab world’s most revered artistic traditions: Arabic calligraphy.\n\nJoin us for a special showcase with calligrapher Mariam Lodin\, who will guide attendees through the evolution\, methodology\, and enduring beauty of this centuries-old art form. The session offers a technical look at the scripts that have shaped Arabic heritage\, from their historical roots to the disciplined craft behind every stroke.\n\nFREE AND OPEN TO THE PUBLIC
URL:https://www.sqcc.org/event/sqcc-open-house-featuring-arabic-calligraphy-by-mariam-lodin/
LOCATION:Sultan Qaboos Cultural Center\, 1100 16th St. NW.\, Washington\, DC\, 20036
CATEGORIES:Announcements,Lecture Series,On Exhibit
ATTACH;FMTTYPE=image/jpeg:https://www.sqcc.org/wp-content/uploads/2026/04/Arabic-Calligraphy.jpg
ORGANIZER;CN="SQCC":MAILTO:info@sqcc.org
END:VEVENT
END:VCALENDAR